BEGIN:VCALENDAR
VERSION:2.0
PRODID:-//Fresh New Angle Events - ECPv6.15.18//NONSGML v1.0//EN
CALSCALE:GREGORIAN
METHOD:PUBLISH
X-WR-CALNAME:Fresh New Angle Events
X-ORIGINAL-URL:https://fnaevents.com
X-WR-CALDESC:Events for Fresh New Angle Events
REFRESH-INTERVAL;VALUE=DURATION:PT1H
X-Robots-Tag:noindex
X-PUBLISHED-TTL:PT1H
BEGIN:VTIMEZONE
TZID:America/New_York
BEGIN:DAYLIGHT
TZOFFSETFROM:-0500
TZOFFSETTO:-0400
TZNAME:EDT
DTSTART:20250309T070000
END:DAYLIGHT
BEGIN:STANDARD
TZOFFSETFROM:-0400
TZOFFSETTO:-0500
TZNAME:EST
DTSTART:20251102T060000
END:STANDARD
BEGIN:DAYLIGHT
TZOFFSETFROM:-0500
TZOFFSETTO:-0400
TZNAME:EDT
DTSTART:20260308T070000
END:DAYLIGHT
BEGIN:STANDARD
TZOFFSETFROM:-0400
TZOFFSETTO:-0500
TZNAME:EST
DTSTART:20261101T060000
END:STANDARD
BEGIN:DAYLIGHT
TZOFFSETFROM:-0500
TZOFFSETTO:-0400
TZNAME:EDT
DTSTART:20270314T070000
END:DAYLIGHT
BEGIN:STANDARD
TZOFFSETFROM:-0400
TZOFFSETTO:-0500
TZNAME:EST
DTSTART:20271107T060000
END:STANDARD
END:VTIMEZONE
BEGIN:VEVENT
DTSTART;TZID=America/New_York:20260305T190000
DTEND;TZID=America/New_York:20260305T213000
DTSTAMP:20260423T183505
CREATED:20260103T012259Z
LAST-MODIFIED:20260103T012259Z
UID:10000062-1772737200-1772746200@fnaevents.com
SUMMARY:The Vault
DESCRIPTION:
URL:https://fnaevents.com/event/the-vault/
LOCATION:The Vault\, 322 High Street\, Burlington\, 08016\, United States
ORGANIZER;CN="Elegant Bridal":MAILTO:info@elegantbridal.com
END:VEVENT
BEGIN:VEVENT
DTSTART;TZID=America/New_York:20260308T130000
DTEND;TZID=America/New_York:20260308T150000
DTSTAMP:20260423T183505
CREATED:20260102T205154Z
LAST-MODIFIED:20260102T205154Z
UID:10000055-1772974800-1772982000@fnaevents.com
SUMMARY:Bucks/Philly Region Wedding Expo at Radisson Hotel
DESCRIPTION:
URL:https://fnaevents.com/event/bucks-philly-region-wedding-expo-at-radisson-hotel/
LOCATION:Radisson Hotel Philadelphia Northeast\, 2400 Old Lincoln Hwy\, Trevose\, PA\, 19053\, United States
END:VEVENT
BEGIN:VEVENT
DTSTART;TZID=America/New_York:20260308T130000
DTEND;TZID=America/New_York:20260308T160000
DTSTAMP:20260423T183505
CREATED:20260102T195354Z
LAST-MODIFIED:20260102T195354Z
UID:10000054-1772974800-1772985600@fnaevents.com
SUMMARY:Jumping Brook Country Club
DESCRIPTION:
URL:https://fnaevents.com/event/jumping-brook-country-club/
LOCATION:Jumping Brook Country Club\, 210 Jumping Brook Road\, Neptune\, NJ\, 07753\, United States
ATTACH;FMTTYPE=image/jpeg:https://fnaevents.com/wp-content/uploads/2026/01/download-3.jpg
END:VEVENT
BEGIN:VEVENT
DTSTART;TZID=America/New_York:20260308T130000
DTEND;TZID=America/New_York:20260308T160000
DTSTAMP:20260423T183505
CREATED:20260107T192649Z
LAST-MODIFIED:20260107T192649Z
UID:10000076-1772974800-1772985600@fnaevents.com
SUMMARY:Hilton Garden Inn Hamilton
DESCRIPTION:
URL:https://fnaevents.com/event/hilton-garden-inn-hamilton/
LOCATION:Hilton Garden Inn Hamilton\, 800 Route 130\, Hamilton\, NJ\, 08690\, United States
ATTACH;FMTTYPE=image/jpeg:https://fnaevents.com/wp-content/uploads/2026/01/download-20.jpg
END:VEVENT
END:VCALENDAR