BEGIN:VCALENDAR
VERSION:2.0
PRODID:-//Fresh New Angle Events - ECPv6.15.18//NONSGML v1.0//EN
CALSCALE:GREGORIAN
METHOD:PUBLISH
X-ORIGINAL-URL:https://fnaevents.com
X-WR-CALDESC:Events for Fresh New Angle Events
REFRESH-INTERVAL;VALUE=DURATION:PT1H
X-Robots-Tag:noindex
X-PUBLISHED-TTL:PT1H
BEGIN:VTIMEZONE
TZID:America/New_York
BEGIN:DAYLIGHT
TZOFFSETFROM:-0500
TZOFFSETTO:-0400
TZNAME:EDT
DTSTART:20250309T070000
END:DAYLIGHT
BEGIN:STANDARD
TZOFFSETFROM:-0400
TZOFFSETTO:-0500
TZNAME:EST
DTSTART:20251102T060000
END:STANDARD
BEGIN:DAYLIGHT
TZOFFSETFROM:-0500
TZOFFSETTO:-0400
TZNAME:EDT
DTSTART:20260308T070000
END:DAYLIGHT
BEGIN:STANDARD
TZOFFSETFROM:-0400
TZOFFSETTO:-0500
TZNAME:EST
DTSTART:20261101T060000
END:STANDARD
BEGIN:DAYLIGHT
TZOFFSETFROM:-0500
TZOFFSETTO:-0400
TZNAME:EDT
DTSTART:20270314T070000
END:DAYLIGHT
BEGIN:STANDARD
TZOFFSETFROM:-0400
TZOFFSETTO:-0500
TZNAME:EST
DTSTART:20271107T060000
END:STANDARD
END:VTIMEZONE
BEGIN:VEVENT
DTSTART;TZID=America/New_York:20260311T190000
DTEND;TZID=America/New_York:20260311T213000
DTSTAMP:20260424T013842
CREATED:20260103T012729Z
LAST-MODIFIED:20260103T012729Z
UID:10000063-1773255600-1773264600@fnaevents.com
SUMMARY:Clarion Hotel and Conference Center
DESCRIPTION:
URL:https://fnaevents.com/event/clarion-hotel-and-conference-center/
LOCATION:Clarion Hotel and Conference Center\, 815 Rt 37\, Toms River\, 08755\, United States
ATTACH;FMTTYPE=image/jpeg:https://fnaevents.com/wp-content/uploads/2026/01/download-12.jpg
ORGANIZER;CN="Elegant Bridal":MAILTO:info@elegantbridal.com
END:VEVENT
BEGIN:VEVENT
DTSTART;TZID=America/New_York:20260315T120000
DTEND;TZID=America/New_York:20260315T160000
DTSTAMP:20260424T013842
CREATED:20260107T193222Z
LAST-MODIFIED:20260204T153621Z
UID:10000077-1773576000-1773590400@fnaevents.com
SUMMARY:Wildwood Wedding Expo
DESCRIPTION:
URL:https://fnaevents.com/event/wildwoods-wedding-expo/
LOCATION:Wildwoods Convention Center\, 4501 Boardwalk\, Wildwood\, NJ\, 08260\, United States
ATTACH;FMTTYPE=image/jpeg:https://fnaevents.com/wp-content/uploads/2026/01/download-21.jpg
END:VEVENT
END:VCALENDAR